BEGIN:VCALENDAR
VERSION:2.0
PRODID:-//wp-events-plugin.com//7.2.3.1//EN
TZID:Europe/Berlin
X-WR-TIMEZONE:Europe/Berlin
BEGIN:VEVENT
UID:4@tsvstammham.de
DTSTART;TZID=Europe/Berlin:20250705T120000
DTEND;TZID=Europe/Berlin:20250705T230000
DTSTAMP:20250526T205656Z
URL:https://tsvstammham.de/events/sommerfest-mit-sonnwendfeuer/
SUMMARY:Sommerfest mit Sonnwendfeuer
DESCRIPTION:Sommerfest mit Jugendturnier\, Beachvolleyballturnier und Mensc
 henkicker.\n\nAbends wird das Sonnwendfeuer entzündet.\n\nEs spielt live 
 "Gerry und Marina"
CATEGORIES:TSV allgemein
LOCATION:Bachstraße 2\, 84533 Stammham\, Bachstraße 2\, Stammham\, Bayern
 \, 84533\, Deutschland
X-APPLE-STRUCTURED-LOCATION;VALUE=URI;X-ADDRESS=Bachstraße 2\, Stammham\, 
 Bayern\, 84533\, Deutschland;X-APPLE-RADIUS=100;X-TITLE=Bachstraße 2\, 84
 533 Stammham:geo:0,0
END:VEVENT
BEGIN:VTIMEZONE
TZID:Europe/Berlin
X-LIC-LOCATION:Europe/Berlin
BEGIN:DAYLIGHT
DTSTART:20250330T030000
TZOFFSETFROM:+0100
TZOFFSETTO:+0200
TZNAME:CEST
END:DAYLIGHT
END:VTIMEZONE
END:VCALENDAR