BEGIN:VCALENDAR
VERSION:2.0
PRODID:-//wp-events-plugin.com//7.2.3.1//EN
TZID:Europe/Berlin
X-WR-TIMEZONE:Europe/Berlin
BEGIN:VEVENT
UID:3@tsvstammham.de
DTSTART;TZID=Europe/Berlin:20250705T170000
DTEND;TZID=Europe/Berlin:20250705T200000
DTSTAMP:20250526T204822Z
URL:https://tsvstammham.de/events/menschenkickerturnier/
SUMMARY:Menschenkickerturnier
DESCRIPTION:Erstes Menschenkickerturnier im Rahmen des Sommerfestes\n\n
CATEGORIES:TSV allgemein
LOCATION:Bachstraße 2\, 84533 Stammham\, Bachstraße 2\, Stammham\, Bayern
 \, 84533\, Deutschland
X-APPLE-STRUCTURED-LOCATION;VALUE=URI;X-ADDRESS=Bachstraße 2\, Stammham\, 
 Bayern\, 84533\, Deutschland;X-APPLE-RADIUS=100;X-TITLE=Bachstraße 2\, 84
 533 Stammham:geo:0,0
END:VEVENT
BEGIN:VTIMEZONE
TZID:Europe/Berlin
X-LIC-LOCATION:Europe/Berlin
BEGIN:DAYLIGHT
DTSTART:20250330T030000
TZOFFSETFROM:+0100
TZOFFSETTO:+0200
TZNAME:CEST
END:DAYLIGHT
END:VTIMEZONE
END:VCALENDAR